BEGIN:VCALENDAR
VERSION:2.0
PRODID:-//jEvents 2.0 for Joomla//EN
CALSCALE:GREGORIAN
METHOD:PUBLISH
BEGIN:VTIMEZONE
TZID:Europe/Zurich
BEGIN:STANDARD
DTSTART:20211031T020000
RDATE:20220327T030000
TZOFFSETFROM:+0200
TZOFFSETTO:+0100
TZNAME:Europe/Zurich CET
END:STANDARD
BEGIN:STANDARD
DTSTART:20221030T020000
RDATE:20230326T030000
TZOFFSETFROM:+0200
TZOFFSETTO:+0100
TZNAME:Europe/Zurich CET
END:STANDARD
BEGIN:STANDARD
DTSTART:20231029T020000
RDATE:20240331T030000
TZOFFSETFROM:+0200
TZOFFSETTO:+0100
TZNAME:Europe/Zurich CET
END:STANDARD
BEGIN:STANDARD
DTSTART:20241027T020000
RDATE:20250330T030000
TZOFFSETFROM:+0200
TZOFFSETTO:+0100
TZNAME:Europe/Zurich CET
END:STANDARD
BEGIN:STANDARD
DTSTART:20251026T020000
RDATE:20260329T030000
TZOFFSETFROM:+0200
TZOFFSETTO:+0100
TZNAME:Europe/Zurich CET
END:STANDARD
BEGIN:STANDARD
DTSTART:20261025T020000
RDATE:20270328T030000
TZOFFSETFROM:+0200
TZOFFSETTO:+0100
TZNAME:Europe/Zurich CET
END:STANDARD
BEGIN:STANDARD
DTSTART:20271031T020000
RDATE:20280326T030000
TZOFFSETFROM:+0200
TZOFFSETTO:+0100
TZNAME:Europe/Zurich CET
END:STANDARD
BEGIN:STANDARD
DTSTART:20281029T020000
RDATE:20290325T030000
TZOFFSETFROM:+0200
TZOFFSETTO:+0100
TZNAME:Europe/Zurich CET
END:STANDARD
BEGIN:STANDARD
DTSTART:20291028T020000
RDATE:20300331T030000
TZOFFSETFROM:+0200
TZOFFSETTO:+0100
TZNAME:Europe/Zurich CET
END:STANDARD
BEGIN:STANDARD
DTSTART:20301027T020000
RDATE:20310330T030000
TZOFFSETFROM:+0200
TZOFFSETTO:+0100
TZNAME:Europe/Zurich CET
END:STANDARD
BEGIN:STANDARD
DTSTART:20311026T020000
RDATE:20320328T030000
TZOFFSETFROM:+0200
TZOFFSETTO:+0100
TZNAME:Europe/Zurich CET
END:STANDARD
BEGIN:STANDARD
DTSTART:20321031T020000
RDATE:20330327T030000
TZOFFSETFROM:+0200
TZOFFSETTO:+0100
TZNAME:Europe/Zurich CET
END:STANDARD
BEGIN:STANDARD
DTSTART:20331030T020000
RDATE:20340326T030000
TZOFFSETFROM:+0200
TZOFFSETTO:+0100
TZNAME:Europe/Zurich CET
END:STANDARD
BEGIN:STANDARD
DTSTART:20341029T020000
RDATE:20350325T030000
TZOFFSETFROM:+0200
TZOFFSETTO:+0100
TZNAME:Europe/Zurich CET
END:STANDARD
BEGIN:STANDARD
DTSTART:20351028T020000
RDATE:20360330T030000
TZOFFSETFROM:+0200
TZOFFSETTO:+0100
TZNAME:Europe/Zurich CET
END:STANDARD
BEGIN:STANDARD
DTSTART:20361026T020000
RDATE:20370329T030000
TZOFFSETFROM:+0200
TZOFFSETTO:+0100
TZNAME:Europe/Zurich CET
END:STANDARD
BEGIN:STANDARD
DTSTART:20371025T020000
TZOFFSETFROM:+0200
TZOFFSETTO:+0100
TZNAME:Europe/Zurich CET
END:STANDARD
BEGIN:DAYLIGHT
DTSTART:20210622T193000
RDATE:20211031T020000
TZOFFSETFROM:+0100
TZOFFSETTO:+0200
TZNAME:Europe/Zurich CEST
END:DAYLIGHT
BEGIN:DAYLIGHT
DTSTART:20220327T030000
RDATE:20221030T020000
TZOFFSETFROM:+0100
TZOFFSETTO:+0200
TZNAME:Europe/Zurich CEST
END:DAYLIGHT
BEGIN:DAYLIGHT
DTSTART:20230326T030000
RDATE:20231029T020000
TZOFFSETFROM:+0100
TZOFFSETTO:+0200
TZNAME:Europe/Zurich CEST
END:DAYLIGHT
BEGIN:DAYLIGHT
DTSTART:20240331T030000
RDATE:20241027T020000
TZOFFSETFROM:+0100
TZOFFSETTO:+0200
TZNAME:Europe/Zurich CEST
END:DAYLIGHT
BEGIN:DAYLIGHT
DTSTART:20250330T030000
RDATE:20251026T020000
TZOFFSETFROM:+0100
TZOFFSETTO:+0200
TZNAME:Europe/Zurich CEST
END:DAYLIGHT
BEGIN:DAYLIGHT
DTSTART:20260329T030000
RDATE:20261025T020000
TZOFFSETFROM:+0100
TZOFFSETTO:+0200
TZNAME:Europe/Zurich CEST
END:DAYLIGHT
BEGIN:DAYLIGHT
DTSTART:20270328T030000
RDATE:20271031T020000
TZOFFSETFROM:+0100
TZOFFSETTO:+0200
TZNAME:Europe/Zurich CEST
END:DAYLIGHT
BEGIN:DAYLIGHT
DTSTART:20280326T030000
RDATE:20281029T020000
TZOFFSETFROM:+0100
TZOFFSETTO:+0200
TZNAME:Europe/Zurich CEST
END:DAYLIGHT
BEGIN:DAYLIGHT
DTSTART:20290325T030000
RDATE:20291028T020000
TZOFFSETFROM:+0100
TZOFFSETTO:+0200
TZNAME:Europe/Zurich CEST
END:DAYLIGHT
BEGIN:DAYLIGHT
DTSTART:20300331T030000
RDATE:20301027T020000
TZOFFSETFROM:+0100
TZOFFSETTO:+0200
TZNAME:Europe/Zurich CEST
END:DAYLIGHT
BEGIN:DAYLIGHT
DTSTART:20310330T030000
RDATE:20311026T020000
TZOFFSETFROM:+0100
TZOFFSETTO:+0200
TZNAME:Europe/Zurich CEST
END:DAYLIGHT
BEGIN:DAYLIGHT
DTSTART:20320328T030000
RDATE:20321031T020000
TZOFFSETFROM:+0100
TZOFFSETTO:+0200
TZNAME:Europe/Zurich CEST
END:DAYLIGHT
BEGIN:DAYLIGHT
DTSTART:20330327T030000
RDATE:20331030T020000
TZOFFSETFROM:+0100
TZOFFSETTO:+0200
TZNAME:Europe/Zurich CEST
END:DAYLIGHT
BEGIN:DAYLIGHT
DTSTART:20340326T030000
RDATE:20341029T020000
TZOFFSETFROM:+0100
TZOFFSETTO:+0200
TZNAME:Europe/Zurich CEST
END:DAYLIGHT
BEGIN:DAYLIGHT
DTSTART:20350325T030000
RDATE:20351028T020000
TZOFFSETFROM:+0100
TZOFFSETTO:+0200
TZNAME:Europe/Zurich CEST
END:DAYLIGHT
BEGIN:DAYLIGHT
DTSTART:20360330T030000
RDATE:20361026T020000
TZOFFSETFROM:+0100
TZOFFSETTO:+0200
TZNAME:Europe/Zurich CEST
END:DAYLIGHT
BEGIN:DAYLIGHT
DTSTART:20370329T030000
RDATE:20371025T020000
TZOFFSETFROM:+0100
TZOFFSETTO:+0200
TZNAME:Europe/Zurich CEST
END:DAYLIGHT
END:VTIMEZONE
BEGIN:VEVENT
UID:e93b1d25f31f5f865e02e1baa2f29187
CATEGORIES:Besucher-Musikgesellschaft-Auftritte
CREATED:20211115T172052
SUMMARY:Platzkonzert am Strassenfest in Hofen
LOCATION:Molkerei Kaufmann
DESCRIPTION:
DTSTAMP:20260422T074602
DTSTART;TZID=Europe/Zurich:20220623T193000
DTEND;TZID=Europe/Zurich:20220623T210000
SEQUENCE:0
RRULE:FREQ=WEEKLY;UNTIL=20220709T000000Z;INTERVAL=1;BYDAY=TH
TRANSP:OPAQUE
END:VEVENT
BEGIN:VEVENT
UID:e93b1d25f31f5f865e02e1baa2f29187
CATEGORIES:Besucher-Musikgesellschaft-Auftritte
CREATED:20211115T172052
SUMMARY:Platzkonzert
LOCATION:Schulhausplatz Wallenwil
DESCRIPTION:
URL;VALUE=URI:https://www.mgsirnach.ch/index.php/mgs-root-main-mnu/mgs-agenda-main-mnu-2/
 icalrepeat.detail/2022/06/16/1492/-/platzkonzert?tmpl=component

DTSTAMP:20260422T074602
DTSTART;TZID=Europe/Zurich:20220616T193000
DTEND;TZID=Europe/Zurich:20220616T210000
RECURRENCE-ID;TZID=Europe/Zurich:20220616T193000
SEQUENCE:0
TRANSP:OPAQUE
END:VEVENT
BEGIN:VEVENT
UID:e93b1d25f31f5f865e02e1baa2f29187
CATEGORIES:Besucher-Musikgesellschaft-Auftritte
CREATED:20211115T172052
SUMMARY:Platzkonzert am Strassenfest in Hofen
LOCATION:Molkerei Kaufmann
DESCRIPTION:
URL;VALUE=URI:https://www.mgsirnach.ch/index.php/mgs-root-main-mnu/mgs-agenda-main-mnu-2/
 icalrepeat.detail/2022/06/23/1493/-/platzkonzert-am-strassenfest-in-hofen?t
 mpl=component

DTSTAMP:20260422T074602
DTSTART;TZID=Europe/Zurich:20220623T193000
DTEND;TZID=Europe/Zurich:20220623T210000
RECURRENCE-ID;TZID=Europe/Zurich:20220623T193000
SEQUENCE:0
TRANSP:OPAQUE
END:VEVENT
BEGIN:VEVENT
UID:e93b1d25f31f5f865e02e1baa2f29187
CATEGORIES:Besucher-Musikgesellschaft-Auftritte
CREATED:20211115T172052
SUMMARY:Platzkonzert
LOCATION:WAS - Wohnen im Alter Sirnach, Fabrikweg, Innenhof
DESCRIPTION:
URL;VALUE=URI:https://www.mgsirnach.ch/index.php/mgs-root-main-mnu/mgs-agenda-main-mnu-2/
 icalrepeat.detail/2022/06/30/1494/-/platzkonzert?tmpl=component

DTSTAMP:20260422T074602
DTSTART;TZID=Europe/Zurich:20220630T193000
DTEND;TZID=Europe/Zurich:20220630T210000
RECURRENCE-ID;TZID=Europe/Zurich:20220630T193000
SEQUENCE:0
TRANSP:OPAQUE
END:VEVENT
BEGIN:VEVENT
UID:e93b1d25f31f5f865e02e1baa2f29187
CATEGORIES:Besucher-Musikgesellschaft-Auftritte
CREATED:20211115T172052
SUMMARY:Platzkonzert
LOCATION:Vor dem Gemeindeschüürli, Wiezikon
DESCRIPTION:<p>Zusammen mit dem Eggerhobby-Chor</p><p>Es wird eine kleine Festwirtschaf
 t geben.</p>
URL;VALUE=URI:https://www.mgsirnach.ch/index.php/mgs-root-main-mnu/mgs-agenda-main-mnu-2/
 icalrepeat.detail/2022/07/07/1495/-/platzkonzert?tmpl=component

DTSTAMP:20260422T074602
DTSTART;TZID=Europe/Zurich:20220707T193000
DTEND;TZID=Europe/Zurich:20220707T210000
RECURRENCE-ID;TZID=Europe/Zurich:20220707T193000
SEQUENCE:0
TRANSP:OPAQUE
END:VEVENT
END:VCALENDAR